Workbook
Name Anno: 'Preventivo Economico'!$B$5
Name AnnoPrec: 'Preventivo Economico'!$D$5
Name P10An: 'Preventivo Economico'!$B$27
Name P10An1: 'Preventivo Economico'!$D$27
Name P10Bn: 'Preventivo Economico'!$B$28
Name P10Bn1: 'Preventivo Economico'!$D$28
Name P10Cn: 'Preventivo Economico'!$B$29
Name P10Cn1: 'Preventivo Economico'!$D$29
Name P10Dn: 'Preventivo Economico'!$B$30
Name P10Dn1: 'Preventivo Economico'!$D$30
Name P10n: 'Preventivo Economico'!$B$26
Name P10n1: 'Preventivo Economico'!$D$26
Name P11n: 'Preventivo Economico'!$B$31
Name P11n1: 'Preventivo Economico'!$D$31
Name P12n: 'Preventivo Economico'!$B$32
Name P12n1: 'Preventivo Economico'!$D$32
Name P13n: 'Preventivo Economico'!$B$33
Name P13n1: 'Preventivo Economico'!$D$33
Name P14n: 'Preventivo Economico'!$B$34
Name P14n1: 'Preventivo Economico'!$D$34
Name P15n: 'Preventivo Economico'!$B$39
Name P15n1: 'Preventivo Economico'!$D$39
Name P16An: 'Preventivo Economico'!$B$41
Name P16An1: 'Preventivo Economico'!$D$41
Name P16Aùn1: 'Preventivo Economico'!$D$41
Name P16Bn: 'Preventivo Economico'!$B$43
Name P16Bn1: 'Preventivo Economico'!$D$43
Name P16Bùn1: 'Preventivo Economico'!$D$43
Name P16Cn: 'Preventivo Economico'!$B$45
Name P16Cn1: 'Preventivo Economico'!$D$45
Name P16Dn: 'Preventivo Economico'!$B$46
Name P16Dn1: 'Preventivo Economico'!$D$46
Name P16n: 'Preventivo Economico'!$B$40
Name P16n1: 'Preventivo Economico'!$D$40
Name P17bisn: 'Preventivo Economico'!$B$48
Name P17bisn1: 'Preventivo Economico'!$D$48
Name P17n: 'Preventivo Economico'!$B$47
Name P17n1: 'Preventivo Economico'!$D$47
Name P18An: 'Preventivo Economico'!$B$53
Name P18An1: 'Preventivo Economico'!$D$53
Name P18Bn: 'Preventivo Economico'!$B$54
Name P18Bn1: 'Preventivo Economico'!$D$54
Name P18Cn: 'Preventivo Economico'!$B$55
Name P18Cn1: 'Preventivo Economico'!$D$55
Name P18Dn: 'Preventivo Economico'!$B$56
Name P18Dn1: 'Preventivo Economico'!$D$56
Name P18n: 'Preventivo Economico'!$B$52
Name P18n1: 'Preventivo Economico'!$D$52
Name P19An: 'Preventivo Economico'!$B$58
Name P19An1: 'Preventivo Economico'!$D$58
Name P19Bn: 'Preventivo Economico'!$B$59
Name P19Bn1: 'Preventivo Economico'!$D$59
Name P19Cn: 'Preventivo Economico'!$B$60
Name P19Cn1: 'Preventivo Economico'!$D$60
Name P19Dn: 'Preventivo Economico'!$B$61
Name P19Dn1: 'Preventivo Economico'!$D$61
Name P19n: 'Preventivo Economico'!$B$57
Name P19n1: 'Preventivo Economico'!$D$57
Name P1n: 'Preventivo Economico'!$B$9
Name P1n1: 'Preventivo Economico'!$D$9

Sheet Preventivo Economico
A1: ORDINE ARCHITETTI, P.P. C. DELLA PROVINCIA DI RIMINI
A3: PREVENTIVO ECONOMICO
B5: 2020 | D5: =Anno-1 -> 2019
A8: A) VALORE DELLA PRODUZIONE
A9: 1) Proventi e corrispettivi per la produzione delle prestazioni e/o servizi | B9: 171610 | D9: 170160
A10: 2) Variazione delle rimanenze dei prodotti in corso di lavorazione, semilavorati e finiti
A11: 3) Variazione dei lavori in corso su ordinazione
A12: 4) Incrementi di immobilizzazioni per lavori interni
A13: 5) Altri ricavi e proventi, con separata indicazione dei contributi di competenza dell'esercizio | B13: 5800 | D13: 5400
A14: Totale valore della produzione (A) | B14: =SUM(P1n:P5n) -> 177410 | D14: =SUM(P1n1:P5n1) -> 175560
A16: B) COSTI DELLA PRODUZIONE
A17: 6) per materie prime, sussidiarie, consumo e merci
A18: 7) per servizi | B18: 91440 | D18: 89840
A19: 8) per godimento beni di terzi | B19: 18000 | D19: 21200
A20: 9) per il personale
A21: a) salari e stipendi | B21: 58400 | D21: 55900
A22: b) oneri sociali
A23: c) trattamento di fine rapporto | B23: 4000 | D23: 3500
A24: d) trattamento di quiescenza e simili
A25: e) altri costi
A26: 10) Ammortamenti e svalutazioni
A27: a) Ammortamento delle immobilizzazioni immateriali | B27: 1400 | D27: 1380
A28: b) Ammortamento delle immobilizzazioni materiali | B28: 1170 | D28: 835
A29: c) Altre svalutazioni delle immobilizzazioni
A30: d) Svalutazione dei crediti compresi nell'attivo circolante e delle disponibilità liquide
A31: 11) Variazioni delle rimanenze di materie prime, sussidisrie, di consumo e merci
A32: 12) Accantonamenti per rischi
A33: 13) Accantonamenti ai fondi per oneri
A34: 14) Oneri diversi di gestione | B34: 4920 | D34: 5120
A35: Totale Costi (B) | B35: =SUM(P6n:P14n) -> 179330 | D35: =SUM(P6n1:P14n1) -> 177775
A36: DIFFERENZA TRA VALORE E COSTI DELLA PRODUZIONE (A - B) | B36: =B14-B35 -> -1920 | D36: =D14-D35 -> -2215
A38: C) PROVENTI E ONERI FINANZIARI
A39: 15) Proventi da partecipazioni
A40: 16) Altri proventi finanziari
A41: a) di crediti iscritti nelle immobilizzazioni
A42: b) di titoli iscritti nelle immobilizzazioni che non costituiscono
A43: partecipazioni;
A44: c) di titoli iscritti nell'attivo circolante che non costituiscono
A45: partecipazioni;
A46: d) proventi diversi dai precedenti | B46: 850 | D46: 1000
...

Sheet Preventivo Economico IPASVI
A3: PREVENTIVO ECONOMICO
A6: A) VALORE DELLA PRODUZIONE
A7: 1) Proventi e corrispettivi per la produzione delle prestazioni e/o servizi | B7: =P1n -> 171610
A8: 2) Variazione delle rimanenze dei prodotti in corso di lavorazione, semilavorati e finiti | B8: =P2n
A9: 3) Variazione dei lavori in corso su ordinazione | B9: =P3n -> 0
A10: 4) Incrementi di immobilizzazioni per lavori interni | B10: =P4n -> 0
A11: 5) Altri ricavi e proventi, con separata indicazione dei contributi di competenza dell'esercizio | B11: =P5n -> 5800
A12: Totale valore della produzione (A) | B12: ='Preventivo Economico'!B14:C14 -> 177410
A14: B) COSTI DELLA PRODUZIONE
A15: 6) per materie prime, sussidiarie, consumo e merci | B15: =P6n -> 0
A16: 7) per servizi | B16: =P7n -> 91440
A17: 8) per godimento beni di terzi | B17: =P8n -> 18000
A18: 9) per il personale | B18: =P9n+P9An+P9Bn+P9Cn+P9Dn+P9En -> 62400
A19: 10) Ammortamenti e svalutazioni | B19: =P10n+P10An+P10Bn+P10Cn+P10Dn -> 2570
A20: 11) Variazioni delle rimanenze di materie prime, sussidisrie, di consumo e merci | B20: =P11n -> 0
A21: 12) Accantonamenti per rischi | B21: =P12n -> 0
A22: 13) Accantonamenti ai fondi per oneri | B22: =P13n -> 0
A23: 14) Oneri diversi di gestione | B23: =P14n -> 4920
A24: Totale Costi (B) | B24: ='Preventivo Economico'!B35:C35 -> 179330
A25: DIFFERENZA TRA VALORE E COSTI DELLA PRODUZIONE (A - B) | B25: ='Preventivo Economico'!B36:C36 -> -1920
A27: C) PROVENTI E ONERI FINANZIARI
A28: 15) Proventi da partecipazioni | B28: =P15n -> 0
A29: 16) Altri proventi finanziari | B29: =P16n+P16An+'Preventivo Economico'!B42:C42+P16Bn+'Preventivo Economico'!B44:C44+P16Cn+P16Dn -> 850
A30: 17) Interessi e altri oneri finanziari | B30: =P17n -> 0
A31: 17-bis) Utili e perdite su cambi | B31: =P17bisn -> 0
A32: Totale proventi ed oneri finanziari (15+16-17±17 bis) | B32: ='Preventivo Economico'!B49:C49 -> 850
A34: D) RETTIFICHE DI VALORE DI ATTIVITA' FINANZIARIE
A35: 18) Rivalutazioni: | B35: =P18n+P18An+P18Bn+P18Cn+P18Dn -> 0
A36: 19) Svalutazioni: | B36: =P19n+P19An+P19Bn+P19Cn+P19Dn -> 0
A37: Totale rettifiche di valore (18-19) | B37: ='Preventivo Economico'!B62:C62 -> 0
A39: Risultato prima delle imposte (A-B±C±D) | B39: ='Preventivo Economico'!B64:C64 -> -1070
A41: 20) Imposte dell'esercizio | B41: =P20In -> 0
A43: 21) Avanzo/Disavanzo/Pareggio Economico | B43: =PADn -> -1070
A45: ='Preventivo Economico'!A70
